BEGIN:VCALENDAR
VERSION:2.0
PRODID:-//hacksw/handcal//NONSGML v1.0//EN
CALSCALE:GREGORIAN
BEGIN:VEVENT
LOCATION:
DESCRIPTION:
DTSTART:20260428T214500Z
DTEND:20260428T234500Z
SUMMARY:Boys Baseball vs Highland Park
URL;VALUE=URI:https://west.maine207.org/event/boys-baseball-vs-highland-park-4/
DTSTAMP:20260425T134319Z
UID:69ecc4f7b864e
END:VEVENT
END:VCALENDAR