BEGIN:VCALENDAR
VERSION:2.0
PRODID:-//hacksw/handcal//NONSGML v1.0//EN
CALSCALE:GREGORIAN
BEGIN:VEVENT
LOCATION:
DESCRIPTION:
DTSTART:20260423T214500Z
DTEND:20260423T234500Z
SUMMARY:Boys Baseball vs Niles West
URL;VALUE=URI:https://west.maine207.org/event/boys-baseball-vs-niles-west-3/
DTSTAMP:20260421T063007Z
UID:69e7196fdad89
END:VEVENT
END:VCALENDAR