BEGIN:VCALENDAR
VERSION:2.0
PRODID:-//hacksw/handcal//NONSGML v1.0//EN
CALSCALE:GREGORIAN
BEGIN:VEVENT
LOCATION:Spec Gym
DESCRIPTION:
DTSTART:20260427T230000Z
DTEND:20260428T010000Z
SUMMARY:Boys Volleyballl vs Niles North
URL;VALUE=URI:https://west.maine207.org/event/boys-volleyballl-vs-niles-north/
DTSTAMP:20260424T072651Z
UID:69eb1b3b6d7ed
END:VEVENT
END:VCALENDAR