BEGIN:VCALENDAR
VERSION:2.0
PRODID:-//hacksw/handcal//NONSGML v1.0//EN
CALSCALE:GREGORIAN
BEGIN:VEVENT
LOCATION:
DESCRIPTION:
DTSTART:20260428T000000Z
DTEND:20260428T000000Z
SUMMARY:Even Day
URL;VALUE=URI:https://west.maine207.org/event/even-day-506/
DTSTAMP:20260424T072427Z
UID:69eb1aabeb87e
END:VEVENT
END:VCALENDAR