BEGIN:VCALENDAR
VERSION:2.0
PRODID:-//hacksw/handcal//NONSGML v1.0//EN
CALSCALE:GREGORIAN
BEGIN:VEVENT
LOCATION:
DESCRIPTION:
DTSTART:20260423T214500Z
DTEND:20260423T234500Z
SUMMARY:Girls Softball vs Maine East
URL;VALUE=URI:https://west.maine207.org/event/girls-softball-vs-maine-east-5/
DTSTAMP:20260422T134935Z
UID:69e8d1ef632bb
END:VEVENT
END:VCALENDAR