BEGIN:VCALENDAR
VERSION:2.0
PRODID:-//hacksw/handcal//NONSGML v1.0//EN
CALSCALE:GREGORIAN
BEGIN:VEVENT
LOCATION:
DESCRIPTION:
DTSTART:20260428T230000Z
DTEND:20260429T010000Z
SUMMARY:Girls Water Polo vs Conant
URL;VALUE=URI:https://west.maine207.org/event/girls-water-polo-vs-conant/
DTSTAMP:20260425T133009Z
UID:69ecc1e118c06
END:VEVENT
END:VCALENDAR