BEGIN:VCALENDAR
VERSION:2.0
PRODID:-//hacksw/handcal//NONSGML v1.0//EN
CALSCALE:GREGORIAN
BEGIN:VEVENT
LOCATION:
DESCRIPTION:
DTSTART:20260423T200000Z
DTEND:20260423T210000Z
SUMMARY:Holi Celebration (Color Toss)
URL;VALUE=URI:https://west.maine207.org/event/holi-celebration-color-toss/
DTSTAMP:20260421T063400Z
UID:69e71a58ad64e
END:VEVENT
END:VCALENDAR