BEGIN:VCALENDAR
VERSION:2.0
PRODID:-//hacksw/handcal//NONSGML v1.0//EN
CALSCALE:GREGORIAN
BEGIN:VEVENT
LOCATION:
DESCRIPTION:
DTSTART:20260423T000000Z
DTEND:20260423T000000Z
SUMMARY:Odd Day
URL;VALUE=URI:https://west.maine207.org/event/odd-day-481/
DTSTAMP:20260421T064426Z
UID:69e71cca7e19c
END:VEVENT
END:VCALENDAR