BEGIN:VCALENDAR
VERSION:2.0
PRODID:-//hacksw/handcal//NONSGML v1.0//EN
CALSCALE:GREGORIAN
BEGIN:VEVENT
LOCATION:
DESCRIPTION:
DTSTART:20260427T000000Z
DTEND:20260427T000000Z
SUMMARY:Odd Day
URL;VALUE=URI:https://west.maine207.org/event/odd-day-482/
DTSTAMP:20260424T072941Z
UID:69eb1be5eae4a
END:VEVENT
END:VCALENDAR