BEGIN:VCALENDAR
VERSION:2.0
PRODID:-//hacksw/handcal//NONSGML v1.0//EN
CALSCALE:GREGORIAN
BEGIN:VEVENT
LOCATION:Auditorium
DESCRIPTION:
DTSTART:20260424T000000Z
DTEND:20260424T023000Z
SUMMARY:Spring Play
URL;VALUE=URI:https://west.maine207.org/event/spring-play-17/
DTSTAMP:20260422T134816Z
UID:69e8d1a0aede4
END:VEVENT
END:VCALENDAR