BEGIN:VCALENDAR
VERSION:2.0
PRODID:-//hacksw/handcal//NONSGML v1.0//EN
CALSCALE:GREGORIAN
BEGIN:VEVENT
LOCATION:Auditorium
DESCRIPTION:
DTSTART:20260425T000000Z
DTEND:20260425T023000Z
SUMMARY:Spring Play
URL;VALUE=URI:https://west.maine207.org/event/spring-play-18/
DTSTAMP:20260424T072823Z
UID:69eb1b9760fdc
END:VEVENT
END:VCALENDAR