BEGIN:VCALENDAR
VERSION:2.0
PRODID:-//hacksw/handcal//NONSGML v1.0//EN
CALSCALE:GREGORIAN
BEGIN:VEVENT
LOCATION:Auditorium
DESCRIPTION:
DTSTART:20260426T000000Z
DTEND:20260426T023000Z
SUMMARY:Spring Play
URL;VALUE=URI:https://west.maine207.org/event/spring-play-19/
DTSTAMP:20260424T072339Z
UID:69eb1a7bc0fd7
END:VEVENT
END:VCALENDAR